BEGIN:VCALENDAR
VERSION:2.0
PRODID:-//Fläming macht Mint - ECPv6.15.17.1//NONSGML v1.0//EN
CALSCALE:GREGORIAN
METHOD:PUBLISH
X-WR-CALNAME:Fläming macht Mint
X-ORIGINAL-URL:https://www.flaeming-mint.de
X-WR-CALDESC:Veranstaltungen für Fläming macht Mint
REFRESH-INTERVAL;VALUE=DURATION:PT1H
X-Robots-Tag:noindex
X-PUBLISHED-TTL:PT1H
BEGIN:VTIMEZONE
TZID:Europe/Berlin
BEGIN:DAYLIGHT
TZOFFSETFROM:+0100
TZOFFSETTO:+0200
TZNAME:CEST
DTSTART:20230326T010000
END:DAYLIGHT
BEGIN:STANDARD
TZOFFSETFROM:+0200
TZOFFSETTO:+0100
TZNAME:CET
DTSTART:20231029T010000
END:STANDARD
BEGIN:DAYLIGHT
TZOFFSETFROM:+0100
TZOFFSETTO:+0200
TZNAME:CEST
DTSTART:20240331T010000
END:DAYLIGHT
BEGIN:STANDARD
TZOFFSETFROM:+0200
TZOFFSETTO:+0100
TZNAME:CET
DTSTART:20241027T010000
END:STANDARD
BEGIN:DAYLIGHT
TZOFFSETFROM:+0100
TZOFFSETTO:+0200
TZNAME:CEST
DTSTART:20250330T010000
END:DAYLIGHT
BEGIN:STANDARD
TZOFFSETFROM:+0200
TZOFFSETTO:+0100
TZNAME:CET
DTSTART:20251026T010000
END:STANDARD
END:VTIMEZONE
BEGIN:VEVENT
DTSTART;TZID=Europe/Berlin:20240813T130000
DTEND;TZID=Europe/Berlin:20240813T160000
DTSTAMP:20260425T000345
CREATED:20240613T114558Z
LAST-MODIFIED:20240613T114824Z
UID:1416-1723554000-1723564800@www.flaeming-mint.de
SUMMARY:Upcycling-Bots bauen in der Mitmach-Werkstatt - Ferienprogramm
DESCRIPTION:Wichtige Infos:\n\nDer Workshop ist kostenlos.\nFür Kinder ab 9 Jahren.\nDu kannst gern eigenes Material mitbringen (einen ausgespülten Getränkekarton\, saubere Deckel und Material zum Verzieren).\nAnmeldung hier: annik.trauzettel@bad-belzig.de
URL:https://www.flaeming-mint.de/angebot/upcycling-bots/
CATEGORIES:Bad Belzig
ATTACH;FMTTYPE=image/jpeg:https://www.flaeming-mint.de/wp-content/uploads/2023/06/design-ohne-titel1.jpg
END:VEVENT
END:VCALENDAR