BEGIN:VCALENDAR
VERSION:2.0
PRODID:-//Fläming macht Mint - ECPv6.15.17.1//NONSGML v1.0//EN
CALSCALE:GREGORIAN
METHOD:PUBLISH
X-WR-CALNAME:Fläming macht Mint
X-ORIGINAL-URL:https://www.flaeming-mint.de
X-WR-CALDESC:Veranstaltungen für Fläming macht Mint
REFRESH-INTERVAL;VALUE=DURATION:PT1H
X-Robots-Tag:noindex
X-PUBLISHED-TTL:PT1H
BEGIN:VTIMEZONE
TZID:Europe/Berlin
BEGIN:DAYLIGHT
TZOFFSETFROM:+0100
TZOFFSETTO:+0200
TZNAME:CEST
DTSTART:20230326T010000
END:DAYLIGHT
BEGIN:STANDARD
TZOFFSETFROM:+0200
TZOFFSETTO:+0100
TZNAME:CET
DTSTART:20231029T010000
END:STANDARD
BEGIN:DAYLIGHT
TZOFFSETFROM:+0100
TZOFFSETTO:+0200
TZNAME:CEST
DTSTART:20240331T010000
END:DAYLIGHT
BEGIN:STANDARD
TZOFFSETFROM:+0200
TZOFFSETTO:+0100
TZNAME:CET
DTSTART:20241027T010000
END:STANDARD
BEGIN:DAYLIGHT
TZOFFSETFROM:+0100
TZOFFSETTO:+0200
TZNAME:CEST
DTSTART:20250330T010000
END:DAYLIGHT
BEGIN:STANDARD
TZOFFSETFROM:+0200
TZOFFSETTO:+0100
TZNAME:CET
DTSTART:20251026T010000
END:STANDARD
END:VTIMEZONE
BEGIN:VEVENT
DTSTART;TZID=Europe/Berlin:20240824T163000
DTEND;TZID=Europe/Berlin:20240824T180000
DTSTAMP:20260425T000254
CREATED:20240813T080722Z
LAST-MODIFIED:20240813T080722Z
UID:1494-1724517000-1724522400@www.flaeming-mint.de
SUMMARY:Die Mitmach-Werkstatt beim Altstadtsommer Bad Belzig
DESCRIPTION:Zwischen 16:30 und 18:00 wird bei uns gelötet! Lötkolben\, Lötzinn und Bausätze stellen wir bereit. Du musst etwas Geschicklichkeit und Geduld mitbringen. Für Kinder ab etwa 10 Jahren. Die Verletzungsgefahr mit den Lötkolben ist bei kleineren Kindern leider zu hoch. \nDer Fläming-Hof ist als Hof Nummer 9 in der Karte eingezeichnet. Das ZEGG\, das Wohnprojekt LIF – Leben im Fläming\, der Hofladen Bad Belzig\, Mehr Demokratie\, der HeilOrt und die Mitmach-Werkstatt heißen euch willkommen! \n \nDas komplette Programm des Alstadtsommers gibt es hier.
URL:https://www.flaeming-mint.de/angebot/altstadtsommer/
LOCATION:Fläming-Hof\, Reißigerstraße\, Bad Belzig\, Reißigerstraße\, Bad Belzig\, 14806\, Deutschland
CATEGORIES:Bad Belzig
ATTACH;FMTTYPE=image/jpeg:https://www.flaeming-mint.de/wp-content/uploads/2024/08/453732230-1030283735559848-6055382000757470135-n.jpg
END:VEVENT
END:VCALENDAR