BEGIN:VCALENDAR
VERSION:2.0
PRODID:-//Fläming macht Mint - ECPv6.15.17.1//NONSGML v1.0//EN
CALSCALE:GREGORIAN
METHOD:PUBLISH
X-WR-CALNAME:Fläming macht Mint
X-ORIGINAL-URL:https://www.flaeming-mint.de
X-WR-CALDESC:Veranstaltungen für Fläming macht Mint
REFRESH-INTERVAL;VALUE=DURATION:PT1H
X-Robots-Tag:noindex
X-PUBLISHED-TTL:PT1H
BEGIN:VTIMEZONE
TZID:Europe/Berlin
BEGIN:DAYLIGHT
TZOFFSETFROM:+0100
TZOFFSETTO:+0200
TZNAME:CEST
DTSTART:20240331T010000
END:DAYLIGHT
BEGIN:STANDARD
TZOFFSETFROM:+0200
TZOFFSETTO:+0100
TZNAME:CET
DTSTART:20241027T010000
END:STANDARD
BEGIN:DAYLIGHT
TZOFFSETFROM:+0100
TZOFFSETTO:+0200
TZNAME:CEST
DTSTART:20250330T010000
END:DAYLIGHT
BEGIN:STANDARD
TZOFFSETFROM:+0200
TZOFFSETTO:+0100
TZNAME:CET
DTSTART:20251026T010000
END:STANDARD
BEGIN:DAYLIGHT
TZOFFSETFROM:+0100
TZOFFSETTO:+0200
TZNAME:CEST
DTSTART:20260329T010000
END:DAYLIGHT
BEGIN:STANDARD
TZOFFSETFROM:+0200
TZOFFSETTO:+0100
TZNAME:CET
DTSTART:20261025T010000
END:STANDARD
END:VTIMEZONE
BEGIN:VEVENT
DTSTART;TZID=Europe/Berlin:20251018T130000
DTEND;TZID=Europe/Berlin:20251018T160000
DTSTAMP:20260423T205925
CREATED:20251006T121841Z
LAST-MODIFIED:20251006T123133Z
UID:2508-1760792400-1760803200@www.flaeming-mint.de
SUMMARY:Internationaler Tag der Reparatur: Reparier-Bar in der Mitmach-Werkstatt Bad Belzig
DESCRIPTION:Repariere deine kaputten Dinge\, nutze Werkzeuge und Geräte der Werkstatt\, trinke Kaffee\, iss Kekse und lerne spannende Techniken wie 3D-Druck oder Lasercutting kennen. Außerdem kannst du andere Tüftler*innen treffen und dich austauschen. \nDas Angebot richtet sich an alle ab 12 Jahren (Jüngere in Begleitung Erwachsener).Die Reparier-Bar findet sonst jeden ersten Freitag im Monat (14–18 Uhr) statt und wird im Oktober wegen des Feiertags verschoben. \nDer Internationale Tag der Reparatur erinnert daran\, wie wichtig Reparieren für Umwelt\, Gemeinschaft und Nachhaltigkeit ist. \nMehr Infos dazu gibt es hier: Netzwerk Reparatur-Initiativen
URL:https://www.flaeming-mint.de/angebot/internationaler-tag-der-reparatur-reparier-bar-in-der-mitmach-werkstatt-bad-belzig/
LOCATION:Mitmach-Werkstatt Bad Belzig\, Weitzgrunder Str. 4\, Bad Belzig\, 14806\, Deutschland
CATEGORIES:Bad Belzig
ATTACH;FMTTYPE=image/jpeg:https://www.flaeming-mint.de/wp-content/uploads/2025/10/reparier-bar-oktober2.jpg
END:VEVENT
END:VCALENDAR